BEGIN:VCALENDAR
VERSION:2.0
PRODID:-//Date iCal//NONSGML kigkonsult.se iCalcreator 2.20.2//
METHOD:PUBLISH
BEGIN:VTIMEZONE
TZID:Asia/Seoul
BEGIN:STANDARD
DTSTART:19881009T030000
TZOFFSETFROM:+1000
TZOFFSETTO:+0900
TZNAME:KST
END:STANDARD
END:VTIMEZONE
BEGIN:VEVENT
UID:calendar.11516.field_date_content.0@iiu.greenclimate.fund
DTSTAMP:20260424T124444Z
CREATED:20230522T085841Z
DTSTART;TZID=Asia/Seoul:20230601T000000
DTEND;TZID=Asia/Seoul:20230601T000000
LAST-MODIFIED:20230602T071630Z
LOCATION:Virtual
SUMMARY:IIU Integrity Talks with Alan Bacarese\, 01 June
URL;TYPE=URI:https://iiu.greenclimate.fund/event/iiu-integrity-talks-alan-b
 acarese-01-june
END:VEVENT
END:VCALENDAR
