BEGIN:VCALENDAR
VERSION:2.0
PRODID:-//Date iCal//NONSGML kigkonsult.se iCalcreator 2.20.2//
METHOD:PUBLISH
BEGIN:VTIMEZONE
TZID:Asia/Seoul
BEGIN:STANDARD
DTSTART:19881009T030000
TZOFFSETFROM:+1000
TZOFFSETTO:+0900
TZNAME:KST
END:STANDARD
END:VTIMEZONE
BEGIN:VEVENT
UID:calendar.11523.field_date_content.0@iiu.greenclimate.fund
DTSTAMP:20260422T051226Z
CREATED:20230609T060553Z
DESCRIPTION:Corruption is a serious obstacle to development. It is particul
 arly pernicious to the poorest and most vulnerable\, increasing costs for 
 and reducing access to basic services\, such as health\, education\, socia
 l programs\, and even justice. Corruption exacerbates inequality and reduc
 es levels of investment to the detriment of markets\, job opportunities\, 
 and economies.
DTSTART;TZID=Asia/Seoul:20230614T000000
DTEND;TZID=Asia/Seoul:20230614T000000
LAST-MODIFIED:20230612T165015Z
SUMMARY:International Corruption Hunters Alliance 2023 Forum
URL;TYPE=URI:https://iiu.greenclimate.fund/event/international-corruption-h
 unters-alliance-2023-forum
END:VEVENT
END:VCALENDAR
