BEGIN:VCALENDAR
VERSION:2.0
PRODID:-//Date iCal//NONSGML kigkonsult.se iCalcreator 2.20.2//
METHOD:PUBLISH
BEGIN:VTIMEZONE
TZID:Asia/Seoul
BEGIN:STANDARD
DTSTART:19881009T030000
TZOFFSETFROM:+1000
TZOFFSETTO:+0900
TZNAME:KST
END:STANDARD
END:VTIMEZONE
BEGIN:VEVENT
UID:calendar.11550.field_date_content.0@iiu.greenclimate.fund
DTSTAMP:20260421T214001Z
CREATED:20240202T071230Z
DESCRIPTION:To build the capacity of the grievance redress mechanisms and i
 ntegrity unit of GCF Direct Access Entities\, and increase awareness of gr
 ievance redress and integrity issues with civil society\, the Independent 
 Redress Mechanism and the Independent Integrity Unit co-hosted a capacity 
 building and outreach workshop in Casablanca\, Morocco. The joint workshop
  took place from 15-19 April 2024.
DTSTART;TZID=Asia/Seoul:20240415T000000
DTEND;TZID=Asia/Seoul:20240415T000000
LAST-MODIFIED:20240423T082034Z
LOCATION:Casablanca\, Morocco
SUMMARY:2024 IRM and IIU Capacity Building and Outreach Workshop
URL;TYPE=URI:https://iiu.greenclimate.fund/event/2024-irm-and-iiu-capacity-
 building-and-outreach-workshop
END:VEVENT
END:VCALENDAR
