BEGIN:VCALENDAR
VERSION:2.0
PRODID:-//Date iCal//NONSGML kigkonsult.se iCalcreator 2.20.2//
METHOD:PUBLISH
BEGIN:VTIMEZONE
TZID:Asia/Seoul
BEGIN:STANDARD
DTSTART:19881009T030000
TZOFFSETFROM:+1000
TZOFFSETTO:+0900
TZNAME:KST
END:STANDARD
END:VTIMEZONE
BEGIN:VEVENT
UID:calendar.11555.field_date_content.0@iiu.greenclimate.fund
DTSTAMP:20260421T231343Z
CREATED:20240411T060953Z
DESCRIPTION:The Independent Integrity Unit (IIU) invites you to join for th
 e next session in our signature webinar series\, Integrity Talks\, which a
 re events that discuss global integrity\, transparency and anti-corruption
  issues and their impact on various aspects of climate action.
DTSTART;TZID=Asia/Seoul:20240430T000000
DTEND;TZID=Asia/Seoul:20240430T000000
LAST-MODIFIED:20240501T080946Z
LOCATION:Virtual
SUMMARY:Integrity Talks Webinar with Duncan Smith
URL;TYPE=URI:https://iiu.greenclimate.fund/event/integrity-talks-webinar-du
 ncan-smith
END:VEVENT
END:VCALENDAR
