BEGIN:VCALENDAR
VERSION:2.0
PRODID:-//Date iCal//NONSGML kigkonsult.se iCalcreator 2.20.2//
METHOD:PUBLISH
BEGIN:VTIMEZONE
TZID:Asia/Seoul
BEGIN:STANDARD
DTSTART:19881009T030000
TZOFFSETFROM:+1000
TZOFFSETTO:+0900
TZNAME:KST
END:STANDARD
END:VTIMEZONE
BEGIN:VEVENT
UID:calendar.11559.field_date_content.0@iiu.greenclimate.fund
DTSTAMP:20260421T195847Z
CREATED:20240509T052158Z
DESCRIPTION:The Independent Integrity Unit (IIU) invites all GCF Accredited
  Entities to join a webinar on May 23 at 10:00 AM KST to launch a new e-le
 arning course on GCF integrity policies!\n\nRegister Here\n\n\n\nhttps://g
 cfund-org.zoom.us/webinar/register/WN_u05lDgDVTxi4pHKmODh6EQ\n\n\n\nThis w
 ebinar will cover how to access these courses\, what information they will
  cover\, and how they were developed.
DTSTART;TZID=Asia/Seoul:20240523T000000
DTEND;TZID=Asia/Seoul:20240523T000000
LAST-MODIFIED:20240509T053837Z
LOCATION:Virtual
SUMMARY:Launch of the IIU E-Learning Module
URL;TYPE=URI:https://iiu.greenclimate.fund/event/launch-iiu-e-learning-modu
 le
END:VEVENT
END:VCALENDAR
