BEGIN:VCALENDAR
VERSION:2.0
PRODID:-//Date iCal//NONSGML kigkonsult.se iCalcreator 2.20.2//
METHOD:PUBLISH
BEGIN:VTIMEZONE
TZID:Asia/Seoul
BEGIN:STANDARD
DTSTART:19881009T030000
TZOFFSETFROM:+1000
TZOFFSETTO:+0900
TZNAME:KST
END:STANDARD
END:VTIMEZONE
BEGIN:VEVENT
UID:calendar.11564.field_date_content.0@iiu.greenclimate.fund
DTSTAMP:20260422T005730Z
CREATED:20240902T001748Z
DESCRIPTION:As the world urgently seeks solutions to combat climate change\
 , the integrity of these efforts is increasingly under scrutiny. Corruptio
 n and integrity risks pose significant threats to the effectiveness and fa
 irness of climate solutions\, from policy formulation to the implementatio
 n of green technologies. These risks can manifest in various forms\, inclu
 ding the misallocation of funds\, manipulation of emissions data\, and fav
 oritism in awarding green contracts. Addressing these risks is crucial to 
 ensuring that climate actions are both effective and equitable.
DTSTART;TZID=Asia/Seoul:20240911T000000
DTEND;TZID=Asia/Seoul:20240911T000000
LAST-MODIFIED:20240902T001914Z
LOCATION:Virtual
SUMMARY:Climate Finance Working Group: Corruption and integrity risks in cl
 imate solutions
URL;TYPE=URI:https://iiu.greenclimate.fund/event/climate-finance-working-gr
 oup-corruption-and-integrity-risks-climate-solutions
END:VEVENT
END:VCALENDAR
